BEGIN:VCALENDAR
VERSION:2.0
PRODID:-//muzketier.nl - ECPv6.15.20//NONSGML v1.0//EN
CALSCALE:GREGORIAN
METHOD:PUBLISH
X-WR-CALNAME:muzketier.nl
X-ORIGINAL-URL:https://www.muzketier.nl
X-WR-CALDESC:Events for muzketier.nl
REFRESH-INTERVAL;VALUE=DURATION:PT1H
X-Robots-Tag:noindex
X-PUBLISHED-TTL:PT1H
BEGIN:VTIMEZONE
TZID:Europe/Amsterdam
BEGIN:DAYLIGHT
TZOFFSETFROM:+0100
TZOFFSETTO:+0200
TZNAME:CEST
DTSTART:20250330T010000
END:DAYLIGHT
BEGIN:STANDARD
TZOFFSETFROM:+0200
TZOFFSETTO:+0100
TZNAME:CET
DTSTART:20251026T010000
END:STANDARD
BEGIN:DAYLIGHT
TZOFFSETFROM:+0100
TZOFFSETTO:+0200
TZNAME:CEST
DTSTART:20260329T010000
END:DAYLIGHT
BEGIN:STANDARD
TZOFFSETFROM:+0200
TZOFFSETTO:+0100
TZNAME:CET
DTSTART:20261025T010000
END:STANDARD
BEGIN:DAYLIGHT
TZOFFSETFROM:+0100
TZOFFSETTO:+0200
TZNAME:CEST
DTSTART:20270328T010000
END:DAYLIGHT
BEGIN:STANDARD
TZOFFSETFROM:+0200
TZOFFSETTO:+0100
TZNAME:CET
DTSTART:20271031T010000
END:STANDARD
END:VTIMEZONE
BEGIN:VEVENT
DTSTART;TZID=Europe/Amsterdam:20260603T123000
DTEND;TZID=Europe/Amsterdam:20260603T180000
DTSTAMP:20260426T003832
CREATED:20260425T183514Z
LAST-MODIFIED:20260425T204740Z
UID:5431-1780489800-1780509600@www.muzketier.nl
SUMMARY:Presentation and feedback session PLC Music education & Technology
DESCRIPTION:During this session\, the members of the Professional Learning Community (PLC) Music education and Technology will share the outcomes of their explorations since February. Together with the participants they will then consider how these can be built upon and they will explore how training programmes and the education sector can be practically supported in integrating technology and digital literacy into music education. \nPrior to the session\, the participants may take part in a workshop where they will be introduced to the inspiring and sometimes unusual musical instruments of SoundLab. \nProgram: \n12.30: Arrival of participants for the optional workshop by SoundLab13.00: Workshop by SoundLab (optional\, advance registration required)14.00: Arrival of the other participants for the feedback session14.30: Start of the feedback session: \n\nSharing outcomes from the PLG\nGathering responses and ideas\nExploring regional needs and next steps\nLooking ahead to the 2026–2027 academic year\n\n17.00: Drinks18.00: Close \nParticipation is free (workshop included). \nNote: The presentation and feedback session will be spoken in Dutch.
URL:https://www.muzketier.nl/event/presentation-and-feedback-session-plc-music-education-technology/
LOCATION:Muziekgebouw – SoundLAB\, Piet Heinkade 1\, Amsterdam\, Noord Holland\, 1019BR\, Netherlands
END:VEVENT
BEGIN:VEVENT
DTSTART;TZID=Europe/Amsterdam:20260610T144500
DTEND;TZID=Europe/Amsterdam:20260610T171500
DTSTAMP:20260426T003832
CREATED:20260425T180315Z
LAST-MODIFIED:20260425T181913Z
UID:5436-1781102700-1781111700@www.muzketier.nl
SUMMARY:Workshop at Online Music Symposium Action - Reaction (in Dutch)
DESCRIPTION:Together with Bert van Uffelen\, I will deliver two online workshops about practical implementations of modern (digital) technology into music performance in primary music classes. \nWe will practice six music activities with the participating teachers and students. The activities will be based on or enriched through widely available technologies and apps and are designed in such a way that\, after the workshop\, the participants feel confident enough to do the activities themselves with their pupils. \nEvery participant will also get a present they can use immediately in their classroom. How nice is that?! 🙂 \nThe online music symposium is an initiative of NHL Stenden\, Méér Muziek in de Klas\, Netwerk Muziekdocenten Pabo\, Muziekakkoord Drenthe\, and K&C. \nNOTE: The symposium and workshop will be spoken in Dutch. \n 
URL:https://www.muzketier.nl/event/workshop-at-online-music-symposium-in-dutch/
LOCATION:online
END:VEVENT
END:VCALENDAR