BEGIN:VCALENDAR
VERSION:2.0
PRODID:-//muzketier.nl - ECPv6.15.20//NONSGML v1.0//EN
CALSCALE:GREGORIAN
METHOD:PUBLISH
X-ORIGINAL-URL:https://www.muzketier.nl
X-WR-CALDESC:Events for muzketier.nl
REFRESH-INTERVAL;VALUE=DURATION:PT1H
X-Robots-Tag:noindex
X-PUBLISHED-TTL:PT1H
BEGIN:VTIMEZONE
TZID:Europe/Amsterdam
BEGIN:DAYLIGHT
TZOFFSETFROM:+0100
TZOFFSETTO:+0200
TZNAME:CEST
DTSTART:20250330T010000
END:DAYLIGHT
BEGIN:STANDARD
TZOFFSETFROM:+0200
TZOFFSETTO:+0100
TZNAME:CET
DTSTART:20251026T010000
END:STANDARD
BEGIN:DAYLIGHT
TZOFFSETFROM:+0100
TZOFFSETTO:+0200
TZNAME:CEST
DTSTART:20260329T010000
END:DAYLIGHT
BEGIN:STANDARD
TZOFFSETFROM:+0200
TZOFFSETTO:+0100
TZNAME:CET
DTSTART:20261025T010000
END:STANDARD
BEGIN:DAYLIGHT
TZOFFSETFROM:+0100
TZOFFSETTO:+0200
TZNAME:CEST
DTSTART:20270328T010000
END:DAYLIGHT
BEGIN:STANDARD
TZOFFSETFROM:+0200
TZOFFSETTO:+0100
TZNAME:CET
DTSTART:20271031T010000
END:STANDARD
END:VTIMEZONE
BEGIN:VEVENT
DTSTART;TZID=Europe/Amsterdam:20260616T160000
DTEND;TZID=Europe/Amsterdam:20260616T170000
DTSTAMP:20260426T044257
CREATED:20260425T215716Z
LAST-MODIFIED:20260425T220021Z
UID:5434-1781625600-1781629200@www.muzketier.nl
SUMMARY:moLab Poster and Demo session at ArtEZ Enschede
DESCRIPTION:In this session\, third-year students of the bachelor Music in Education of the conservatory of ArtEZ University of the Arts in Enschede present their results of the moLab course to their peers\, teachers\, clients and those interested from the music education field. \nThe moLab course —short for music education laboratory— challenges students (pre-service music teachers) to innovate music education through developing technology for music  teaching and meaningful education based on a technology or in a setting with technology. \nIn this session\, the students present posters showing the process and outcomes of the real-world assignments from clients. They also demonstrate the deliverables they have developed during the course. \nIf you want to join this session for free\, please let me know.
URL:https://www.muzketier.nl/event/molab-poster-and-demo-session-at-artez-enschede/
LOCATION:ArtEZ Conservatory Enschede\, Van Essengaarde 10\, Enschede\, Netherlands
END:VEVENT
END:VCALENDAR