BEGIN:VCALENDAR
VERSION:2.0
PRODID:-//muzketier.nl - ECPv6.15.20//NONSGML v1.0//EN
CALSCALE:GREGORIAN
METHOD:PUBLISH
X-WR-CALNAME:muzketier.nl
X-ORIGINAL-URL:https://www.muzketier.nl
X-WR-CALDESC:Events for muzketier.nl
REFRESH-INTERVAL;VALUE=DURATION:PT1H
X-Robots-Tag:noindex
X-PUBLISHED-TTL:PT1H
BEGIN:VTIMEZONE
TZID:Europe/Amsterdam
BEGIN:DAYLIGHT
TZOFFSETFROM:+0100
TZOFFSETTO:+0200
TZNAME:CEST
DTSTART:20250330T010000
END:DAYLIGHT
BEGIN:STANDARD
TZOFFSETFROM:+0200
TZOFFSETTO:+0100
TZNAME:CET
DTSTART:20251026T010000
END:STANDARD
BEGIN:DAYLIGHT
TZOFFSETFROM:+0100
TZOFFSETTO:+0200
TZNAME:CEST
DTSTART:20260329T010000
END:DAYLIGHT
BEGIN:STANDARD
TZOFFSETFROM:+0200
TZOFFSETTO:+0100
TZNAME:CET
DTSTART:20261025T010000
END:STANDARD
BEGIN:DAYLIGHT
TZOFFSETFROM:+0100
TZOFFSETTO:+0200
TZNAME:CEST
DTSTART:20270328T010000
END:DAYLIGHT
BEGIN:STANDARD
TZOFFSETFROM:+0200
TZOFFSETTO:+0100
TZNAME:CET
DTSTART:20271031T010000
END:STANDARD
END:VTIMEZONE
BEGIN:VEVENT
DTSTART;TZID=Europe/Amsterdam:20260207T090000
DTEND;TZID=Europe/Amsterdam:20260207T133000
DTSTAMP:20260419T185053
CREATED:20260216T153038Z
LAST-MODIFIED:20260216T153625Z
UID:5323-1770454800-1770471000@www.muzketier.nl
SUMMARY:Professional development session (closed)
DESCRIPTION:During this closed session\, muzketier delivers a professional development (PD) session on the state-of-the-art technologies that may be relevant for implementation in music education. \nThe music teachers of the music school will also explore ways to integrate the presented technologies into their own teaching practices.
URL:https://www.muzketier.nl/event/professional-development-session-closed/
LOCATION:Scholen in de Kunst\, Eemplein 75\, Amersfoort\, 3812 EA\, Netherlands
END:VEVENT
END:VCALENDAR